BEGIN:VCALENDAR
VERSION:2.0
PRODID:-//ARCANES - ECPv5.7.0//NONSGML v1.0//EN
CALSCALE:GREGORIAN
METHOD:PUBLISH
X-WR-CALNAME:ARCANES
X-ORIGINAL-URL:https://crilcq.arcanes.ca
X-WR-CALDESC:Events for ARCANES
BEGIN:VTIMEZONE
TZID:America/New_York
BEGIN:DAYLIGHT
TZOFFSETFROM:-0500
TZOFFSETTO:-0400
TZNAME:EDT
DTSTART:20210314T070000
END:DAYLIGHT
BEGIN:STANDARD
TZOFFSETFROM:-0400
TZOFFSETTO:-0500
TZNAME:EST
DTSTART:20211107T060000
END:STANDARD
END:VTIMEZONE
BEGIN:VEVENT
DTSTART;TZID=America/New_York:20211112T100000
DTEND;TZID=America/New_York:20211112T120000
DTSTAMP:20260420T111810
CREATED:20210525T134204Z
LAST-MODIFIED:20211113T082716Z
UID:155-1636711200-1636718400@crilcq.arcanes.ca
SUMMARY:Désinformation\, usages journalistiques et éthique médiatique (Colette Brin\, U. Laval (Canada))
DESCRIPTION:10h-12h (heure normale du Québec) / 16h-18h (Fr) \nPour assister à cet événement\, écrivez-nous à contact@arcanes.ca afin de recevoir le lien Zoom. \n  \n\n\nColette Brin\nUniversité Laval \n« Pratiques informationnelles numériques et interventions d’apprentissage en ligne » \nMalgré les nombreuses études sur la réception et la propagation de désinformation numérique\, tout particulièrement en période électorale et en contexte de pandémie\, des angles morts demeurent: tout particulièrement\, l’efficacité des interventions auprès des usagers pour développer une bonne « hygiène numérique »\, notamment chez les jeunes et les personnes en situation socio-économique précaire. La discussion s’appuiera sur les résultats préliminaires d’une expérience sur la réception et l’efficacité des ressources d’apprentissage en ligne (e-learning) auprès de jeunes adultes québécois. \nColette Brin est professeure titulaire au Département d’information et de communication de l’Université Laval et directrice du Centre d’études sur les médias. Ses travaux de recherche et son enseignement s’articulent autour des transformations récentes et en cours des pratiques journalistiques\, notamment par l’entremise des politiques publiques et des initiatives organisationnelles en tant que mécanismes de régulation\, ainsi que du discours professionnel des journalistes. Elle coordonne l’édition canadienne du Digital News Report (Reuters Institute for the Study of Journalism) et a codirigé l’ouvrage Journalism in Crisis : Bridging Theory and Practice for Democratic Media Strategies in Canada (University of Toronto Press\, 2016). Elle est membre du Comité scientifique de l’Observatoire international sur les impacts sociétaux et éthiques de l’intelligence artificielle et du numérique et du Comité directeur du Centre pour l’étude de la citoyenneté démocratique (CÉCD).
URL:https://crilcq.arcanes.ca/event/desinformation-usages-journalistiques-et-ethique-mediatique/
LOCATION:En ligne
CATEGORIES:Séminaires Arcanes automne 2021
END:VEVENT
END:VCALENDAR