BEGIN:VCALENDAR
VERSION:2.0
PRODID:-//ARCANES - ECPv5.7.0//NONSGML v1.0//EN
CALSCALE:GREGORIAN
METHOD:PUBLISH
X-WR-CALNAME:ARCANES
X-ORIGINAL-URL:https://crilcq.arcanes.ca
X-WR-CALDESC:Events for ARCANES
BEGIN:VTIMEZONE
TZID:UTC
BEGIN:STANDARD
TZOFFSETFROM:+0000
TZOFFSETTO:+0000
TZNAME:UTC
DTSTART:20210101T000000
END:STANDARD
END:VTIMEZONE
BEGIN:VEVENT
DTSTART;TZID=UTC:20211203T100000
DTEND;TZID=UTC:20211203T120000
DTSTAMP:20260423T125248
CREATED:20210525T133511Z
LAST-MODIFIED:20211210T163319Z
UID:144-1638525600-1638532800@crilcq.arcanes.ca
SUMMARY:Stratégies de tromperies dans les arts vivants. (Frédéric Tabet\, U. de Toulouse 2 Jean Jaurès\, Lara-Seppia (France))
DESCRIPTION:10h-12h (Qc) / 16h-18h (Fr)\n \nPour assister à cet événement\, écrivez-nous à contact@arcanes.ca afin de recevoir le lien Zoom. \n  \n\n\n\n\n\n\n\n\n\n\n\n\n\n\n\n\nFrédéric Tabet\nUniversité Toulouse 2 Jean Jaurès\, Lara-Seppia \n« La mécanique du faux à l’œuvre dans l’art magique construction et déconstruction d’un regard distancié. »\n \nL’art magique se distingue des autres formes de représentation par son caractère paradoxal. Le spectateur assiste à des effets magiques impossibles réalisés de manière hautement réaliste\, indubitablement réels\, car sensibles\, visibles\, audibles et parfois palpables. Cet hyperréalisme exacerbé menant au rejet global du phénomène ou à une croyance aveugle. \nSimultanément\, le spectateur se sait pertinemment témoin d’apparences trompeuses\, d’élaborations scientifiques ou rationnelles; et par là\, face à une fiction sans couture. Cette injonction paradoxale crée le sentiment magique\, distinct de l’émerveillement ou de la désillusion. Il nait au moment où l’effet fait irruption\, au moment où s’inversent les poids du cru et du perçu dans les esprits. \nNotre communication explorera les rouages de certains dispositifs de la prestidigitation\, de l’illusionnisme et de la création magique post-moderne. Nous montrerons par le biais des écritures magiques\, comment les artistes-magiciens en détournant les moments de croyance et en maniant les pactes de lectures construisent\, par l’illusion\, un regard lucide et critique sur le monde. \nFrédéric Tabet est Maître de Conférences en études cinématographiques à l’Université Toulouse 2 Jean Jaurès\, responsable de l’axe « Illusiographies » du Laboratoire Lara-Seppia (EA 4154). Il est l’auteur du Cinématographe des Magiciens\, aux Presses Universitaires de Rennes et a collaboré à différents articles sur l’histoire et l’esthétique du cinéma. Ses recherches portent sur les modalités d’échanges et les emprunts entre l’art magique et les médias\, et sur la généalogie des truquages\, notamment photographiques.
URL:https://crilcq.arcanes.ca/event/strategies-de-tromperies-dans-les-arts-vivants-magie/
LOCATION:En ligne
CATEGORIES:Séminaires Arcanes automne 2021
END:VEVENT
END:VCALENDAR