BEGIN:VCALENDAR
VERSION:2.0
PRODID:-//ARCANES - ECPv5.7.0//NONSGML v1.0//EN
CALSCALE:GREGORIAN
METHOD:PUBLISH
X-WR-CALNAME:ARCANES
X-ORIGINAL-URL:https://crilcq.arcanes.ca
X-WR-CALDESC:Events for ARCANES
BEGIN:VTIMEZONE
TZID:UTC
BEGIN:STANDARD
TZOFFSETFROM:+0000
TZOFFSETTO:+0000
TZNAME:UTC
DTSTART:20210101T000000
END:STANDARD
END:VTIMEZONE
BEGIN:VEVENT
DTSTART;TZID=UTC:20210409T100000
DTEND;TZID=UTC:20210409T120000
DTSTAMP:20260419T180518
CREATED:20210521T192056Z
LAST-MODIFIED:20210528T181227Z
UID:101-1617962400-1617969600@crilcq.arcanes.ca
SUMMARY:Stratégies de tromperies au cinéma et dans les dispositifs télévisuels (Pascal Martin\, Pierre Barrette)
DESCRIPTION:Y a truc\, ça se voit !\nLes truquages au cinéma sont concomitants à son invention. Ce n’est certainement pas un hasard si le premier découvreur\, Georges Méliès\, était prestidigitateur. Les techniques de l’illusion alors utilisées ont mué au gré des évolutions technologiques où les astuces artisanales ont fait place à une industrie à part entière. De grandes périodes se dessinent ; truquages directs à la prise de vue\, les trucages en post-production\, truquages composites. L’arrivée du numérique a engendré une perfection visuelle\, où réel et virtuel se confondent comme jamais. Les visual effects ont succédé aux trucages. Mais au fur et à mesure de ses évolutions\, notre regard s’est-il transformé ? percevons-nous les images de la même manière que les générations qui nous ont précédés ? A travers différents exemples\, nous tenterons de démontrer que l’approche est plus complexe qu’il n’y parait et que si l’image est polysémique\, notre perception elle\, est multifactorielle. \nPascal Martin\nÉcole Nationale Supérieure Louis-Lumière \n\n\n\n\n\n\n\n\n\n\n\n\n\n\n\nLe réel « performé » des dispositifs ludiques de téléréalité\nLes émissions de téléréalité ont contribué significativement à transformer la manière dont la télévision « produit » de la réalité et « documente » le réel existant\, influençant par là-même notre rapport à l’expérience ainsi que la manière dont nous envisageons la vérité des « événements médiatiques ». Au-delà du « mélange des genres » qu’elle suppose sur le plan des effets de surface et du dispositif\, la TR doit être étudiée pour ce qu’elle révèle des constructions énonciatives originales qu’elle engage le téléspectateur à produire et des conséquences de celle-ci sur le statut respectif de la fiction\, du documentaire et des jeux en contexte de communication télévisuelle. \nPierre Barrette\nUQAM
URL:https://crilcq.arcanes.ca/event/strategies-de-tromperies-au-cinema-et-dans-les-dispositifs-televisuels/
LOCATION:En ligne
CATEGORIES:Séminaires Arcanes hiver 2021
END:VEVENT
END:VCALENDAR