BEGIN:VCALENDAR
VERSION:2.0
PRODID:-//ARCANES - ECPv5.7.0//NONSGML v1.0//EN
CALSCALE:GREGORIAN
METHOD:PUBLISH
X-WR-CALNAME:ARCANES
X-ORIGINAL-URL:https://crilcq.arcanes.ca
X-WR-CALDESC:Events for ARCANES
BEGIN:VTIMEZONE
TZID:UTC
BEGIN:STANDARD
TZOFFSETFROM:+0000
TZOFFSETTO:+0000
TZNAME:UTC
DTSTART:20210101T000000
END:STANDARD
END:VTIMEZONE
BEGIN:VEVENT
DTSTART;TZID=UTC:20210326T100000
DTEND;TZID=UTC:20210326T120000
DTSTAMP:20260419T192027
CREATED:20210521T190451Z
LAST-MODIFIED:20240311T213609Z
UID:100-1616752800-1616760000@crilcq.arcanes.ca
SUMMARY:Authenticité\, dispositifs et contre-dispositifs de véridiction (Philippe Useille\, Angelina Toursel\, Nadia Naffi\, Renée Bourassa)
DESCRIPTION:Les arcanes du vrai à l’heure des deep fakes : authenticité et dispositifs de véridiction.\nComme phénomènes de désinformation\, les deep fakes suscitent de plus en plus l’inquiétude. L’IA\, sur laquelle ils reposent\, perfectionne la possibilité de truquer les images et les sons. La technologie étant devenue accessible\, la fabrication de deep fakes semble désormais à la portée de tous. Leur multiplication et leur diffusion annoncées sont perçues comme un nouveau facteur de désordre informationnel. En effet\, les deep fakes sont un nouvel avatar des “puissances du faux” : ils miment ce qui fait l’authenticité d’un enregistrement audiovisuel tout en brouillant sa référentialité. Que disent les deep fakes des régimes d’interprétation qu’ils supposent et des “arcanes du vrai” à l’ère dite de la “post-vérité” ? \nPhilippe Useille\nUniversité Valenciennes \nAngelina Toursel\nUniversité Polytechnique Hauts-de-France \nNadia Naffi\nUniversité Laval\,\nChaire de leadership en enseignement (CLE) sur les pratiques pédagogiques innovantes en contexte numérique – Banque Nationale \nRenée Bourassa\nUniversité Laval
URL:https://crilcq.arcanes.ca/event/authenticite-dispositifs-et-contre-dispositifs-de-veridiction/
LOCATION:En ligne
CATEGORIES:Séminaires Arcanes hiver 2021
END:VEVENT
END:VCALENDAR