BEGIN:VCALENDAR
VERSION:2.0
PRODID:-//ARCANES - ECPv5.7.0//NONSGML v1.0//EN
CALSCALE:GREGORIAN
METHOD:PUBLISH
X-WR-CALNAME:ARCANES
X-ORIGINAL-URL:https://crilcq.arcanes.ca
X-WR-CALDESC:Events for ARCANES
BEGIN:VTIMEZONE
TZID:America/New_York
BEGIN:DAYLIGHT
TZOFFSETFROM:-0500
TZOFFSETTO:-0400
TZNAME:EDT
DTSTART:20240310T070000
END:DAYLIGHT
BEGIN:STANDARD
TZOFFSETFROM:-0400
TZOFFSETTO:-0500
TZNAME:EST
DTSTART:20241103T060000
END:STANDARD
END:VTIMEZONE
BEGIN:VEVENT
DTSTART;TZID=America/New_York:20241004T100000
DTEND;TZID=America/New_York:20241004T120000
DTSTAMP:20260419T171939
CREATED:20240906T142501Z
LAST-MODIFIED:20241030T105951Z
UID:15653-1728036000-1728043200@crilcq.arcanes.ca
SUMMARY:Intelligence artificielle\, littérature et puissances du faux
DESCRIPTION:10h-12h (Qc) / 16h-18h (Fr)* \nPour participer en tant qu’auditeur.trice libre: envoyez un courriel à contact@arcanes.ca. \n* La séance se tiendra sur la plateforme Zoom : le lien et les codes sont envoyés par infolettre aux personnes participantes. \n\n\n\n\n\n\n\n\n\n\n\n\n\n\nSerge Bouchardon\nUniversité de technologie de Compiègne \nRécits numériques et intelligence artificielle\nDans cette présentation\, je replacerai les récits générés avec des IA plus largement dans le cadre des récits numériques\, notamment interactifs (hypertextuels\, cinétiques\, participatifs). Je m’appuierai ensuite sur des exemples de récits co-écrits avec des IA et je pointerai certaines questions que ces récits posent. J’envisagerai enfin quelques perspectives. \nSerge Bouchardon est professeur en sciences de l’information et de la communication à l’université de technologie de Compiègne\, où il enseigne l’écriture interactive et multimédia. Au sein du laboratoire COSTECH (Connaissance\, Organisation et Systèmes TECHniques)\, son travail de recherche porte sur les écritures numériques\, en particulier sur la littérature numérique.\nEn tant qu’auteur de littérature numérique\, il s’intéresse notamment à la mise en scène de l’interactivité et au rôle du geste dans l’écriture interactive. Ses créations ont été présentées en diverses occasions en Europe\, en Amérique\, en Afrique\, en Asie et au Moyen-Orient. Elles ont fait l’objet de publications dans des revues en ligne (bleuOrange\, Hyperrhiz\, SpringGun\, The New River…). La création Déprise a obtenu le New Media Writing Prize en 2011 et figure dans l’anthologie Electronic Literature Collection 2022. \n\n\n\nRenée Bourassa\nUniversité Laval \nDimensions narratives de l’IA générative : entre créativité\, auctorialité et nouveaux matérialisme\nCette intervention se penche sur les dispositifs narratifs issus de l’IA générative\, qui investissent les pratiques créatives et l’écosystème socionumérique. La communication traite  des relations existantes entre les puissances du faux et les dispositifs mis en œuvres par l’IA. En s’appuyant sur des exemples issus de la littérature et du cinéma\, comprenant les figures de l’automate\, des images générées par Dall-E ou encore\, des Deepfakes\,  la réflexion pose un regard critique sur les pratiques narratives de l’intelligence artificielle  générative. Elle problématise les concepts de créativité\, d’auctorialité et d’authenticité\, tout en relevant les changements opérés dans les processus de création artistique. Sont abordées les dynamiques relationnelles entre les humains et les non-humains\, vus comme des assemblages\, qui posent les questions centrales suivantes : Qu’est-ce que la créativité? La machine est-elle capable d’invention \, d’innovation et d’originalité\, en dépassant les jeux de l’imitation des créations humaines? Quel est le statut de l’auteur à l’ère de l’IA générative? Comment penser l’authenticité en relation avec les produits de l’IA générative? Des perspectives s’ouvrent au prisme des courants de pensée philosophique des nouveaux matérialismes et du transhumanisme\, portant l’attention sur la matérialité du monde. De plus\, l’IA générative pose des enjeux sociaux\, légaux\, éthiques et environnementaux considérables\, qui seront discutés. \nRenée Bourassa (Ph. D.) est professeure titulaire à l’École de design (Université Laval). Elle dirige le projet Arcanes avec Jean-Marc Larrue (Université de Montréal) et elle est membre du CRILCQ. Ses recherches actuelles portent sur les stratégies de tromperie et d’illusion dans les arts trompeurs et dans l’écosystème socionumérique liées notamment à la désinformation. Ses travaux de recherche portent sur les fictions\, les médiations et les cultures numériques\, ainsi que sur les systèmes d’éditorialisation numériques. Elle a dirigé l’ouvrage en ligne Le livre en contexte numérique : défi de design (2021) et co-dirigé\, avec Lucille Haute et Gilles Ruffineau\, Éditions numériques (Revue Sciences du design # 8\, 2018) avec Bertrand Gervais\, Figures de l’immersion (2014) et avec Louise Poissant de Personnage virtuel\, corps performatif : effets de présence (2013) et Avatars\, personnages et acteurs virtuels (2013). Elle a signé l’ouvrage Fictions hypermédiatiques : mondes fictionnels et espaces ludiques (2010) ainsi que de nombreux articles et chapitres de livres.
URL:https://crilcq.arcanes.ca/event/arts-trompeurs-litterature-semiotique-et-editorialisation-numerique/
LOCATION:En ligne
CATEGORIES:Séminaire Arcanes automne 2024
END:VEVENT
END:VCALENDAR