BEGIN:VCALENDAR
VERSION:2.0
PRODID:-//ARCANES - ECPv5.7.0//NONSGML v1.0//EN
CALSCALE:GREGORIAN
METHOD:PUBLISH
X-WR-CALNAME:ARCANES
X-ORIGINAL-URL:https://crilcq.arcanes.ca
X-WR-CALDESC:Events for ARCANES
BEGIN:VTIMEZONE
TZID:America/New_York
BEGIN:DAYLIGHT
TZOFFSETFROM:-0500
TZOFFSETTO:-0400
TZNAME:EDT
DTSTART:20240310T070000
END:DAYLIGHT
BEGIN:STANDARD
TZOFFSETFROM:-0400
TZOFFSETTO:-0500
TZNAME:EST
DTSTART:20241103T060000
END:STANDARD
END:VTIMEZONE
BEGIN:VEVENT
DTSTART;TZID=America/New_York:20241011T100000
DTEND;TZID=America/New_York:20241011T120000
DTSTAMP:20260419T172744
CREATED:20240906T164945Z
LAST-MODIFIED:20241030T110113Z
UID:15662-1728640800-1728648000@crilcq.arcanes.ca
SUMMARY:La narration générative entre IA symbolique et connexionniste : une expérience transnationale
DESCRIPTION:10h-12h (Qc) / 16h-18h (Fr) \nPour participer en tant qu’auditeur.trice libre: envoyez un courriel à contact@arcanes.ca. \n* La séance se tiendra sur la plateforme Zoom : le lien et les codes sont envoyés par infolettre aux personnes participantes. \n  \n\n\n\n\n\n\n\n\n\n\n\n\n\n\nSamuel Szoniecky\nUniversité Paris 8 Vincennes-Saint-Denis \nChaoticum seminario : IA pour les humanités numériques\nLa transcription automatique d’archives sonores nous semble un sujet pertinent pour expérimenter des scénarios d’usage de l’IA et leurs limites dans les Humanités numériques car il n’existe pas aujourd’hui d’outils permettant de faire des recherches et de naviguer dans le contenu des documents sonores\, ni de les citer en faisant référence via une URL à un passage précis (de la seconde x à la seconde y). De plus\, ces besoins de transcription automatique ne touchent pas uniquement les humanités numériques mais plus globalement le domaine de la médiation culturelle par exemple pour valoriser les archives sonores en ligne qui se multiplient avec le développement des enregistrements audiovisuelles d’événements culturels\nPour illustrer notre propos\, nous présenterons un projet de conception et de développement d’un écosystème numérique pour l’exploration des collections sonores.\n \nSamuel Szoniecky\, maître de conférences au département humanités numériques de l’université Paris 8 et chercheur au laboratoire Paragraphe\, explore de nouvelles méthodes de design des connaissances dédiées au développement d’une intelligence collective centrée sur la stimulation\, l’expression et le partage des sensibilités individuelles. \n\n\n\nLaura Shackelford\nRochester Institute of Technology \nLa narration générative entre IA symbolique et connexioniste: contextes littéraires et culturels //\nGenerative Narrative between Symbolic and Connectionist AI:  Literary & Cultural Contexts\n[fr] Dans cette présentation\, je partage mes méthodes pour initier les étudiants à la narration générative et à d’autres formes de littérature numérique\, alors qu’ils se préparent à travailler en équipes transnationales pour créer leurs propres narrations génératives en utilisant la base de données Omeka S\, ComfyUI\, Javascript\, et le récent Large Language Model (LLM) AI\, parmi d’autres outils. Je mettrai en lumière certaines de mes propres recherches et approches en matière de narration générative et de pratiques littéraires numériques\, dans la mesure où elles éclairent l’atelier de création numérique transnationale que je co-enseigne avec Samuel Szoniecky\, et où elles guident mes futures recherches sur la narration dans le contexte de l’IA.\n[en] In this presentation\, I share my methods for introducing students to generative narrative and other digital literature\, as they prepare to work on transnational teams to create their own generative narratives using the Omeka S database\, ComfyUI\, Javascript\, and recent Large Language Model (LLM) AI\, among other tools. I will highlight some of my own research and approaches to generative narrative and digital literary practices\, as these inform the Transnational Digital Creation Workshop I co-teach with Samuel Szoniecky\, and as they guide my future research on storytelling amidst AI. \nLaura Shackelford est professeure du Rochester Institute of Technology (USA) et directrice du Center for Engaged Storytelling. En 2021\, elle fut professeure invitée à l’Université Paris 8. Ses recherches portent sur les pratiques narratives et littéraires\, ainsi que sur les transformations qu’elles ont subies en relation avec les sciences émergentes de la cybernétique\, de l’information\, de la théorie des systèmes et des sciences physiques depuis la Seconde Guerre mondiale. Elle explore la fiction contemporaine\, la littérature numérique\, la narration interactive et les narrations hybrides (aux interstices des jeux numériques\, de l’animation\, du cinéma\, de la photographie et des nouveaux médias). Ses expériences littéraires avec les médias numériques l’aident à diagnostiquer et à enregistrer des changements significatifs dans les cultures du XXIe siècle\, leurs processus et leurs environnements de plus en plus intégrés et basés sur l’informatique. Ces fictions s’engagent souvent directement dans les sciences matérielles émergentes\, la génomique\, les logiciels de visualisation et les réseaux distribués pour réfléchir de manière créative aux potentialités sociales\, culturelles et artistiques et aux dimensions inexplorées de ces connaissances émergentes. Les processus qu’engendrent ces fictions réfléchissent de manière comparative les conséquences des changements apportés sur les conceptions antérieures de l’espace\, du temps\, de la nation et du monde\, qui sont sexuées\, racialisées et colonialistes. En faisant dialoguer les pratiques scientifiques et les mondes imaginaires\, les spéculations des fictions\, créatives\, servent de moteur épistémologique important dans la conversation avec d’autres pratiques matérielles\, technologiques et symboliques. \n  \n 
URL:https://crilcq.arcanes.ca/event/arts-trompeurs-litterature-semiotique-et-editorialisation-numerique-2/
LOCATION:En ligne
CATEGORIES:Séminaire Arcanes automne 2024
END:VEVENT
END:VCALENDAR