BEGIN:VCALENDAR
VERSION:2.0
PRODID:-//ARCANES - ECPv5.7.0//NONSGML v1.0//EN
CALSCALE:GREGORIAN
METHOD:PUBLISH
X-WR-CALNAME:ARCANES
X-ORIGINAL-URL:https://crilcq.arcanes.ca
X-WR-CALDESC:Events for ARCANES
BEGIN:VTIMEZONE
TZID:America/New_York
BEGIN:DAYLIGHT
TZOFFSETFROM:-0500
TZOFFSETTO:-0400
TZNAME:EDT
DTSTART:20240310T070000
END:DAYLIGHT
BEGIN:STANDARD
TZOFFSETFROM:-0400
TZOFFSETTO:-0500
TZNAME:EST
DTSTART:20241103T060000
END:STANDARD
END:VTIMEZONE
BEGIN:VEVENT
DTSTART;TZID=America/New_York:20240920T100000
DTEND;TZID=America/New_York:20240920T120000
DTSTAMP:20260421T102409
CREATED:20240905T141252Z
LAST-MODIFIED:20241030T105722Z
UID:15649-1726826400-1726833600@crilcq.arcanes.ca
SUMMARY:Intelligence artificielle\, créativité\, design de prompts et explorations en design
DESCRIPTION:10h-12h (Qc) / 16h-18h (Fr) \nPour participer en tant qu’auditeur.trice libre: envoyez un courriel à contact@arcanes.ca. \n* La séance se tiendra sur la plateforme Zoom : le lien et les codes sont envoyés par infolettre aux personnes participantes. \n\n\n\n\n\n\n\n\n\n\n\n\n\n\nEverardo Reyes\nUniversité Paris 8 Vincennes-Saint-Denis \nFooling Ourselves to Death: pour une approche expérimentale et créative des IA\nLe domaine de l’IA a propulsé des sujets tels que l’ « uncanny valley » \, les « deep fakes » et « digital resurrection » \, pour mentionner quelques exemples. Néanmoins\, on peut observer que\, depuis les années 1980\, des théoriciens des médias comme Marshall McLuhan\, Umberto Eco et Neil Postman ont étudié les effets du faux en relation avec les supports médiatiques Dans cette présentation\, je vais m’appuyer sur ces deux fondements historiques pour proposer une approche expérimentale et spéculative de l’usage de l’IA. Cette contribution s’inscrit dans la lignée de la recherche-création et des « art-based methods » (Kitchin\, 2023). Je vais illustrer mes idées par des exemples concrets\, issus de mes propres expériences avec les technologies et plateformes de médias génératifs.\n \n\nEverardo Reyes est professeur des universités au département des Humanités Numériques à l’Université Paris 8 Vincennes-Saint-Denis.\nDepuis 2003\, il est membre du Laboratoire Paragraphe\, un laboratoire de recherche transdisciplinaire de l’Université Paris 8. Il est également membre collaborateur du Cultural Analytics Lab\, membre du comité d’administration de l’International Association for Visual Semiotics (IAVS) et secrétaire du comité d’administration de l’International International Symposium on Emerging Arts (ISEA).\nSes recherches investiguent les relations entre les sciences humaines\, les arts\, les sciences sociales et les sciences de l’informatique. Il s’intéresse particulièrement aux expressions visuelles et à la description de leur signification dans un contexte pratique : les interfaces graphiques\, la visualisation des médias\, les arts\, les sciences\, les technologies\, les textes numériques et les systèmes hypermédias. Au cœur de son travail\, il combine la théorie sémiotique et les expériences appliquées faisant usage de logiciels et de langages de programmation utilisant des techniques informatiques visuelles. \n\n  \n\n\n\nKhaldoun Zreik\nUniversité Paris 8 Vincennes-Saint-Denis \nAtelier Thèse Post-Numérique – Rédiger une thèse à l’ère de l’IA\nCette communication propose une discussion autour d’un atelier-séminaire de rédaction d’une thèse à l’ère de l’IA. L’intervention ouvre le débat sur la question posée auprès d’une équipe de directeur de thèse et d’une équipe d’étudiants en doctorat et en master impliqués dans la rédaction de thèses et de mémoires de recherche.\nLe séminaire aborde les principaux sujets suivants :\n– La transition numérique ;\n– La méthodologie de la recherche à l’ère post-numérique (notamment le partage de données\, de documents\, etc.) ;\n– Le déplacement des droits d’auteur ;\n– L’écriture numérique ;\n– La rédaction de thèses multimédias et en ligne.\nIl sera présenté les expériences réelles des participants dans le processus de la rédaction de leur thèse à travers l’exposé du sujet de leurs travaux\, leurs méthodes de collecte d’informations\, leurs méthodologies de recherche\, leurs recherches et leurs résultats\, avant de révéler leur façon de rédiger et de promouvoir leurs recherches.\n \nKhaldoun Zreik est professeur titulaire au département des humanités numériques\, membre de l’UFR Sciences des Technologies du Numérique (STN) de l’Université Paris 8 Vincennes-Saint-Denis.\nIl est doyen de la faculté des Sciences des Technologies du Numérique (STN) et directeur du Laboratoire Paragraphe (EA 349)\, et membre du Laboratoire de Recherche en Sciences de l’information et de la Communication (SIC)\, Psychologie  et Ergonomie de l’Université Paris 8. Il est responsable scientifique de l’équipe CiTu-Paragraphe.\nSes principaux domaines de recherche sont : l’hyperurbain\, la conception de documents communicatifs (C2D)\, les arts informatiques et médiatiques (CMA)\, l’extraction d’informations pilotée par la structure (une approche basé sur l’exploration de textes)\, et la conception de support d’apprentissage interactif (IHSL / approche basée sur l’apprentissage automatique).
URL:https://crilcq.arcanes.ca/event/arts-trompeurs-et-agents-conversationnels-puissances-du-faux-et-hallucinations-machiniques/
LOCATION:En ligne
CATEGORIES:Séminaire Arcanes automne 2024
END:VEVENT
END:VCALENDAR